BEGIN:VCALENDAR
VERSION:2.0
PRODID:-//eventon.com NONSGML v1.0//EN
CALSCALE:GREGORIAN
METHOD:PUBLISH
BEGIN:VEVENT
UID:69eb2d7bba9e6
DTSTAMP:20260424T084443Z
DTSTART:20240624T100000Z
DTEND:20240624T110000Z
LOCATION:
SUMMARY:CPDSO WEBINAR: The Future of Data Protection in the UK
DESCRIPTION:In just a few short months time\,  UK data protection law will 
 be changing. There are a number of important amendments which will impact o
 n your everyday processing of personal data. This webinar will unpack some 
 of those changes and help you to plan for the future. This session will[..]
 \nhttps://www.cpdstandards.com/events/cpdso-webinar-the-future-of-data-prot
 ection-in-the-uk/
URL:https://www.cpdstandards.com/events/cpdso-webinar-the-future-of-data-protection-in-the-uk/
END:VEVENT
END:VCALENDAR