BEGIN:VCALENDAR
VERSION:2.0
PRODID:-//eventon.com NONSGML v1.0//EN
CALSCALE:GREGORIAN
METHOD:PUBLISH
BEGIN:VEVENT
UID:69e8889b53e44
DTSTAMP:20260422T083643Z
DTSTART:20250224T100000Z
DTEND:20250224T110000Z
LOCATION:
SUMMARY:CPDSO WEBINAR: Sales Mastery with Dr Mahmood Mawjee - Transforming Conversations into Results
DESCRIPTION:Sales success isn’t just about scripts and objection handling
 —it’s about mastering the energy and mindset behind every conversation.
  In this transformative webinar\,  Dr Mahmood Mawjee\,  the founder of Bril
 liant Beyond Belief\,  will guide you through the internal mastery needed t
 o achieve extraordinary sales results. Supported by the expertise of his[..
 ]\nhttps://www.cpdstandards.com/events/cpdso-webinar-sales-mastery-with-dr-
 mahmood-mawjee-transforming-conversations-into-results/
URL:https://www.cpdstandards.com/events/cpdso-webinar-sales-mastery-with-dr-mahmood-mawjee-transforming-conversations-into-results/
END:VEVENT
END:VCALENDAR