BEGIN:VCALENDAR
VERSION:2.0
PRODID:-//eventon.com NONSGML v1.0//EN
CALSCALE:GREGORIAN
METHOD:PUBLISH
BEGIN:VEVENT
UID:69e74d93c04fc
DTSTAMP:20260421T101235Z
DTSTART:20260330T090000Z
DTEND:20260330T100000Z
LOCATION:
SUMMARY:CPDSO Webinar: Teaching Wellbeing\,  Resilience and Coaching
DESCRIPTION:Education is at a crossroads. Teachers (and learners) are navig
 ating unprecedented levels of stress\,  rapid change\,  and learners whose 
 brains\,  needs\,  and expectations have been fundamentally shaped by recen
 t global events. This webinar invites educators\,  trainers\,  and leaders 
 (even learners and parents) to pause\,  reflect\,  and reimagine how we tea
 ch\, [..]\nhttps://www.cpdstandards.com/events/cpdso-webinar-teaching-wellb
 eing-resilience-and-coaching/
URL:https://www.cpdstandards.com/events/cpdso-webinar-teaching-wellbeing-resilience-and-coaching/
END:VEVENT
END:VCALENDAR