BEGIN:VCALENDAR
VERSION:2.0
PRODID:-//eventon.com NONSGML v1.0//EN
CALSCALE:GREGORIAN
METHOD:PUBLISH
BEGIN:VEVENT
UID:69e73e3288a94
DTSTAMP:20260421T090658Z
DTSTART:20180514T140000Z
DTEND:20180514T170000Z
LOCATION:One Great George Street
SUMMARY:Creating and Facilitating a Training Culture
DESCRIPTION:TBC\nhttps://www.cpdstandards.com/events/creating-and-facilitat
 ing-a-training-culture/
URL:https://www.cpdstandards.com/events/creating-and-facilitating-a-training-culture/
END:VEVENT
END:VCALENDAR