BEGIN:VCALENDAR
VERSION:2.0
PRODID:-//eventon.com NONSGML v1.0//EN
CALSCALE:GREGORIAN
METHOD:PUBLISH
BEGIN:VEVENT
UID:69e89cbf6e3c9
DTSTAMP:20260422T100239Z
DTSTART:20220921T110000Z
DTEND:20220921T180000Z
LOCATION:CPD Standards Office
SUMMARY:WEBINAR: The Institute of CPD… Our New Partnership
DESCRIPTION:We have some exciting news! The CPD Standards Office has recent
 ly partnered with the Institute of CPD www.cpdinstitute.org\,  who are the 
 leading\,  globally-connected\,  cross-professional body\,  established to 
 offer formal recognition to those who demonstrate a personal commitment to 
 Continuing Professional Development (CPD). This is a very exciting time for
  The[..]\nhttps://www.cpdstandards.com/events/webinar-the-institute-of-cpd-
 our-new-partnership-2/
URL:https://www.cpdstandards.com/events/webinar-the-institute-of-cpd-our-new-partnership-2/
END:VEVENT
END:VCALENDAR